BEGIN:VCALENDAR
VERSION:2.0
PRODID:spatie/icalendar-generator
DESCRIPTION:Events from MANN Center for the Arts
X-WR-CALDESC:Events from MANN Center for the Arts
REFRESH-INTERVAL;VALUE=DURATION:PT1440M
X-PUBLISHED-TTL:PT1440M
BEGIN:VTIMEZONE
TZID:America/New_York
BEGIN:STANDARD
DTSTART:20251102T020000Z
TZOFFSETFROM:-0400
TZOFFSETTO:-0500
END:STANDARD
BEGIN:DAYLIGHT
DTSTART:20260308T020000Z
TZOFFSETFROM:-0500
TZOFFSETTO:-0400
END:DAYLIGHT
END:VTIMEZONE
BEGIN:VTIMEZONE
TZID:UTC
BEGIN:STANDARD
DTSTART:20250728T080638Z
TZOFFSETFROM:+0000
TZOFFSETTO:+0000
END:STANDARD
END:VTIMEZONE
BEGIN:VEVENT
UID:106-44
DTSTAMP:20260424T080638Z
SUMMARY:My Town - A Motown Tribute
LOCATION:MANN Center for the Arts 507 N. Steele Street  Sanford NC 27330
ORGANIZER;CN=MANN Center for the Arts:MAILTO:marketing@manncenterarts.org
DTSTART;TZID=America/New_York:20260228T150000
DTEND;TZID=America/New_York:20260228T160000
X-ALT-DESC;FMTTYPE=TEXT/HTML:Experience the legendary artists and unforgett
 able songs that defined an era. This show brings the music\, magic\, and m
 emories of legendary Motown artists to life. Get ready to sing\, dance\, a
 nd feel the soul. Entry Fee: $5 at the door *There will be a live video ta
 ping in progress. Entry purchase is your consent of&amp;hellip\;
CATEGORIES:Music
URL;VALUE=URI:https://manncenterarts.org/mc-events/my-town-a-motown-tribute
 /
METHOD:PUBLISH
END:VEVENT
END:VCALENDAR